Package: cnvGSA Version: 1.50.0 Command: rm -rf cnvGSA.buildbin-libdir && mkdir cnvGSA.buildbin-libdir && /Users/biocbuild/BBS/utils/build-universal.sh cnvGSA_1.50.0.tar.gz /Library/Frameworks/R.framework/Resources/bin/R cnvGSA.buildbin-libdir StartedAt: 2025-02-05 15:18:00 -0500 (Wed, 05 Feb 2025) EndedAt: 2025-02-05 15:18:14 -0500 (Wed, 05 Feb 2025) EllapsedTime: 14.3 seconds RetCode: 0 Status: OK PackageFile: cnvGSA_1.50.0.tgz PackageFileSize: 431.1 KiB