Package: cnvGSA Version: 1.50.0 Command: /Library/Frameworks/R.framework/Resources/bin/R CMD build --keep-empty-dirs --no-resave-data cnvGSA StartedAt: 2025-02-03 21:03:55 -0500 (Mon, 03 Feb 2025) EndedAt: 2025-02-03 21:04:15 -0500 (Mon, 03 Feb 2025) EllapsedTime: 20.2 seconds RetCode: 0 Status: OK PackageFile: cnvGSA_1.50.0.tar.gz PackageFileSize: 334.6 KiB