Package: cnvGSA Version: 1.50.0 Command: /Library/Frameworks/R.framework/Resources/bin/R CMD check --install=check:cnvGSA.install-out.txt --library=/Library/Frameworks/R.framework/Resources/library --no-vignettes --timings cnvGSA_1.50.0.tar.gz StartedAt: 2025-02-04 15:22:08 -0500 (Tue, 04 Feb 2025) EndedAt: 2025-02-04 15:23:36 -0500 (Tue, 04 Feb 2025) EllapsedTime: 88.3 seconds RetCode: 0 Status: OK CheckDir: cnvGSA.Rcheck Warnings: 0