Package: cnvGSA Version: 1.50.0 Command: /Library/Frameworks/R.framework/Resources/bin/R CMD INSTALL cnvGSA StartedAt: 2025-02-10 15:24:42 -0500 (Mon, 10 Feb 2025) EndedAt: 2025-02-10 15:24:55 -0500 (Mon, 10 Feb 2025) EllapsedTime: 13.2 seconds RetCode: 0 Status: OK