Package: cnvGSA Version: 1.50.0 Command: /Library/Frameworks/R.framework/Resources/bin/R CMD INSTALL cnvGSA StartedAt: 2025-02-10 15:14:33 -0500 (Mon, 10 Feb 2025) EndedAt: 2025-02-10 15:14:57 -0500 (Mon, 10 Feb 2025) EllapsedTime: 24.5 seconds RetCode: 0 Status: OK