Package: cnvGSA Version: 1.50.0 Command: rm -rf cnvGSA.buildbin-libdir && mkdir cnvGSA.buildbin-libdir && F:\biocbuild\bbs-3.20-bioc\R\bin\R.exe CMD INSTALL --build --library=cnvGSA.buildbin-libdir cnvGSA_1.50.0.tar.gz StartedAt: 2025-02-04 08:14:20 -0500 (Tue, 04 Feb 2025) EndedAt: 2025-02-04 08:14:44 -0500 (Tue, 04 Feb 2025) EllapsedTime: 24.7 seconds RetCode: 0 Status: OK PackageFile: cnvGSA_1.50.0.zip PackageFileSize: 359.9 KiB