Package: cnvGSA Version: 1.50.0 Command: chmod a+r cnvGSA -R && F:\biocbuild\bbs-3.20-bioc\R\bin\R.exe CMD build --keep-empty-dirs --no-resave-data cnvGSA StartedAt: 2025-02-03 18:15:13 -0500 (Mon, 03 Feb 2025) EndedAt: 2025-02-03 18:15:40 -0500 (Mon, 03 Feb 2025) EllapsedTime: 27.9 seconds RetCode: 0 Status: OK PackageFile: cnvGSA_1.50.0.tar.gz PackageFileSize: 261.1 KiB