Package: coMET Version: 1.38.0 Command: /Library/Frameworks/R.framework/Resources/bin/R CMD check --install=check:coMET.install-out.txt --library=/Library/Frameworks/R.framework/Resources/library --no-vignettes --timings coMET_1.38.0.tar.gz StartedAt: 2025-02-04 15:36:07 -0500 (Tue, 04 Feb 2025) EndedAt: 2025-02-04 15:46:13 -0500 (Tue, 04 Feb 2025) EllapsedTime: 606.4 seconds RetCode: 0 Status: WARNINGS CheckDir: coMET.Rcheck Warnings: 1