Package: coMET Version: 1.38.0 Command: /Library/Frameworks/R.framework/Resources/bin/R CMD build --keep-empty-dirs --no-resave-data coMET StartedAt: 2025-01-30 18:06:50 -0500 (Thu, 30 Jan 2025) EndedAt: 2025-01-30 18:12:14 -0500 (Thu, 30 Jan 2025) EllapsedTime: 323.7 seconds RetCode: 0 Status: OK PackageFile: coMET_1.38.0.tar.gz PackageFileSize: 21.83 MiB