Package: coMET Version: 1.38.0 Command: /Library/Frameworks/R.framework/Resources/bin/R CMD check --install=check:coMET.install-out.txt --library=/Library/Frameworks/R.framework/Resources/library --no-vignettes --timings coMET_1.38.0.tar.gz StartedAt: 2025-01-31 01:57:31 -0500 (Fri, 31 Jan 2025) EndedAt: 2025-01-31 02:15:01 -0500 (Fri, 31 Jan 2025) EllapsedTime: 1050.4 seconds RetCode: 0 Status: WARNINGS CheckDir: coMET.Rcheck Warnings: 1