Package: coMET Version: 1.38.0 Command: /home/biocbuild/bbs-3.20-bioc/R/bin/R CMD check --install=check:coMET.install-out.txt --library=/home/biocbuild/bbs-3.20-bioc/R/site-library --timings coMET_1.38.0.tar.gz StartedAt: 2025-01-30 21:01:38 -0500 (Thu, 30 Jan 2025) EndedAt: 2025-01-30 21:10:48 -0500 (Thu, 30 Jan 2025) EllapsedTime: 549.5 seconds RetCode: 1 Status: ERROR CheckDir: coMET.Rcheck Warnings: NA