Package: coMET Version: 1.38.0 Command: /home/biocbuild/bbs-3.20-bioc/R/bin/R CMD INSTALL coMET StartedAt: 2025-01-30 15:35:25 -0500 (Thu, 30 Jan 2025) EndedAt: 2025-01-30 15:36:31 -0500 (Thu, 30 Jan 2025) EllapsedTime: 66.2 seconds RetCode: 0 Status: OK