Package: coMET Version: 1.38.0 Command: rm -rf coMET.buildbin-libdir && mkdir coMET.buildbin-libdir && F:\biocbuild\bbs-3.20-bioc\R\bin\R.exe CMD INSTALL --build --library=coMET.buildbin-libdir coMET_1.38.0.tar.gz StartedAt: 2025-01-31 08:25:18 -0500 (Fri, 31 Jan 2025) EndedAt: 2025-01-31 08:26:54 -0500 (Fri, 31 Jan 2025) EllapsedTime: 95.6 seconds RetCode: 0 Status: OK PackageFile: coMET_1.38.0.zip PackageFileSize: 21.81 MiB