Package: coMET Version: 1.38.0 Command: /home/biocbuild/R/R/bin/R CMD check --install=check:coMET.install-out.txt --library=/home/biocbuild/R/R/site-library --no-vignettes --timings coMET_1.38.0.tar.gz StartedAt: 2025-01-31 05:06:27 -0000 (Fri, 31 Jan 2025) EndedAt: 2025-01-31 05:16:21 -0000 (Fri, 31 Jan 2025) EllapsedTime: 594.5 seconds RetCode: 1 Status: ERROR CheckDir: coMET.Rcheck Warnings: NA