Package: coMET Version: 1.38.0 Command: /home/biocbuild/R/R/bin/R CMD INSTALL coMET StartedAt: 2025-01-30 20:43:59 -0000 (Thu, 30 Jan 2025) EndedAt: 2025-01-30 20:45:05 -0000 (Thu, 30 Jan 2025) EllapsedTime: 66.4 seconds RetCode: 0 Status: OK