Package: coRdon Version: 1.24.0 Command: rm -rf coRdon.buildbin-libdir && mkdir coRdon.buildbin-libdir && /Users/biocbuild/BBS/utils/build-universal.sh coRdon_1.24.0.tar.gz /Library/Frameworks/R.framework/Resources/bin/R coRdon.buildbin-libdir StartedAt: 2025-02-12 14:36:44 -0500 (Wed, 12 Feb 2025) EndedAt: 2025-02-12 14:37:05 -0500 (Wed, 12 Feb 2025) EllapsedTime: 20.2 seconds RetCode: 0 Status: OK PackageFile: coRdon_1.24.0.tgz PackageFileSize: 2.749 MiB