Package: coRdon Version: 1.24.0 Command: /Library/Frameworks/R.framework/Resources/bin/R CMD build --keep-empty-dirs --no-resave-data coRdon StartedAt: 2025-02-03 21:22:52 -0500 (Mon, 03 Feb 2025) EndedAt: 2025-02-03 21:23:48 -0500 (Mon, 03 Feb 2025) EllapsedTime: 56.4 seconds RetCode: 0 Status: OK PackageFile: coRdon_1.24.0.tar.gz PackageFileSize: 2.365 MiB