Package: coRdon Version: 1.24.0 Command: /Library/Frameworks/R.framework/Resources/bin/R CMD check --install=check:coRdon.install-out.txt --library=/Library/Frameworks/R.framework/Resources/library --no-vignettes --timings coRdon_1.24.0.tar.gz StartedAt: 2025-02-04 15:57:21 -0500 (Tue, 04 Feb 2025) EndedAt: 2025-02-04 15:59:29 -0500 (Tue, 04 Feb 2025) EllapsedTime: 128.6 seconds RetCode: 0 Status: OK CheckDir: coRdon.Rcheck Warnings: 0