Package: coRdon Version: 1.24.0 Command: /Library/Frameworks/R.framework/Resources/bin/R CMD INSTALL coRdon StartedAt: 2025-02-03 15:33:54 -0500 (Mon, 03 Feb 2025) EndedAt: 2025-02-03 15:34:03 -0500 (Mon, 03 Feb 2025) EllapsedTime: 9.4 seconds RetCode: 0 Status: OK