Package: coRdon Version: 1.24.0 Command: rm -rf coRdon.buildbin-libdir && mkdir coRdon.buildbin-libdir && /Users/biocbuild/BBS/utils/build-universal.sh coRdon_1.24.0.tar.gz /Library/Frameworks/R.framework/Resources/bin/R coRdon.buildbin-libdir StartedAt: 2024-11-09 16:43:52 -0500 (Sat, 09 Nov 2024) EndedAt: 2024-11-09 16:43:59 -0500 (Sat, 09 Nov 2024) EllapsedTime: 7.1 seconds RetCode: 0 Status: OK PackageFile: coRdon_1.24.0.tgz PackageFileSize: 2.751 MiB