Package: coRdon Version: 1.24.0 Command: rm -rf coRdon.buildbin-libdir && mkdir coRdon.buildbin-libdir && /Users/biocbuild/BBS/utils/build-universal.sh coRdon_1.24.0.tar.gz /Library/Frameworks/R.framework/Resources/bin/R coRdon.buildbin-libdir StartedAt: 2025-02-04 12:43:29 -0500 (Tue, 04 Feb 2025) EndedAt: 2025-02-04 12:44:07 -0500 (Tue, 04 Feb 2025) EllapsedTime: 38.2 seconds RetCode: 0 Status: OK PackageFile: coRdon_1.24.0.tgz PackageFileSize: 2.65 MiB