Package: coRdon Version: 1.24.0 Command: /Library/Frameworks/R.framework/Resources/bin/R CMD build --keep-empty-dirs --no-resave-data coRdon StartedAt: 2025-02-03 18:06:28 -0500 (Mon, 03 Feb 2025) EndedAt: 2025-02-03 18:08:13 -0500 (Mon, 03 Feb 2025) EllapsedTime: 104.8 seconds RetCode: 0 Status: OK PackageFile: coRdon_1.24.0.tar.gz PackageFileSize: 2.266 MiB