Package: coRdon Version: 1.24.0 Command: /home/biocbuild/bbs-3.20-bioc/R/bin/R CMD check --install=check:coRdon.install-out.txt --library=/home/biocbuild/bbs-3.20-bioc/R/site-library --timings coRdon_1.24.0.tar.gz StartedAt: 2025-02-03 21:16:59 -0500 (Mon, 03 Feb 2025) EndedAt: 2025-02-03 21:19:09 -0500 (Mon, 03 Feb 2025) EllapsedTime: 130.1 seconds RetCode: 0 Status: OK CheckDir: coRdon.Rcheck Warnings: 0