Package: coRdon Version: 1.24.0 Command: rm -rf coRdon.buildbin-libdir && mkdir coRdon.buildbin-libdir && F:\biocbuild\bbs-3.20-bioc\R\bin\R.exe CMD INSTALL --build --library=coRdon.buildbin-libdir coRdon_1.24.0.tar.gz StartedAt: 2025-02-04 08:16:26 -0500 (Tue, 04 Feb 2025) EndedAt: 2025-02-04 08:17:18 -0500 (Tue, 04 Feb 2025) EllapsedTime: 51.9 seconds RetCode: 0 Status: OK PackageFile: coRdon_1.24.0.zip PackageFileSize: 1.423 MiB