Package: coRdon Version: 1.24.0 Command: chmod a+r coRdon -R && F:\biocbuild\bbs-3.20-bioc\R\bin\R.exe CMD build --keep-empty-dirs --no-resave-data coRdon StartedAt: 2025-02-03 18:21:21 -0500 (Mon, 03 Feb 2025) EndedAt: 2025-02-03 18:22:41 -0500 (Mon, 03 Feb 2025) EllapsedTime: 79.8 seconds RetCode: 0 Status: OK PackageFile: coRdon_1.24.0.tar.gz PackageFileSize: 1.051 MiB