Package: coRdon Version: 1.24.0 Command: F:\biocbuild\bbs-3.20-bioc\R\bin\R.exe CMD check --no-multiarch --install=check:coRdon.install-out.txt --library=F:\biocbuild\bbs-3.20-bioc\R\library --no-vignettes --timings coRdon_1.24.0.tar.gz StartedAt: 2025-02-04 00:37:44 -0500 (Tue, 04 Feb 2025) EndedAt: 2025-02-04 00:40:09 -0500 (Tue, 04 Feb 2025) EllapsedTime: 145.2 seconds RetCode: 0 Status: OK CheckDir: coRdon.Rcheck Warnings: 0