Package: coRdon Version: 1.24.0 Command: /home/biocbuild/R/R/bin/R CMD INSTALL coRdon StartedAt: 2025-02-03 20:29:32 -0000 (Mon, 03 Feb 2025) EndedAt: 2025-02-03 20:29:52 -0000 (Mon, 03 Feb 2025) EllapsedTime: 19.9 seconds RetCode: 0 Status: OK