Package: cogeqc Version: 1.10.0 Command: /Library/Frameworks/R.framework/Resources/bin/R CMD build --keep-empty-dirs --no-resave-data cogeqc StartedAt: 2025-01-30 21:17:57 -0500 (Thu, 30 Jan 2025) EndedAt: 2025-01-30 21:19:25 -0500 (Thu, 30 Jan 2025) EllapsedTime: 87.2 seconds RetCode: 0 Status: OK PackageFile: cogeqc_1.10.0.tar.gz PackageFileSize: 3.331 MiB