Package: cogeqc Version: 1.10.0 Command: rm -rf cogeqc.buildbin-libdir && mkdir cogeqc.buildbin-libdir && /Users/biocbuild/BBS/utils/build-universal.sh cogeqc_1.10.0.tar.gz /Library/Frameworks/R.framework/Resources/bin/R cogeqc.buildbin-libdir StartedAt: 2025-02-11 12:56:15 -0500 (Tue, 11 Feb 2025) EndedAt: 2025-02-11 12:56:48 -0500 (Tue, 11 Feb 2025) EllapsedTime: 32.8 seconds RetCode: 0 Status: OK PackageFile: cogeqc_1.10.0.tgz PackageFileSize: 3.381 MiB