Package: cogeqc Version: 1.10.0 Command: /Library/Frameworks/R.framework/Resources/bin/R CMD build --keep-empty-dirs --no-resave-data cogeqc StartedAt: 2025-02-10 17:54:50 -0500 (Mon, 10 Feb 2025) EndedAt: 2025-02-10 17:58:09 -0500 (Mon, 10 Feb 2025) EllapsedTime: 199.0 seconds RetCode: 0 Status: OK PackageFile: cogeqc_1.10.0.tar.gz PackageFileSize: 3.314 MiB