Package: cogeqc Version: 1.10.0 Command: /home/biocbuild/bbs-3.20-bioc/R/bin/R CMD build --keep-empty-dirs --no-resave-data --md5 cogeqc StartedAt: 2025-02-03 16:55:12 -0500 (Mon, 03 Feb 2025) EndedAt: 2025-02-03 16:56:28 -0500 (Mon, 03 Feb 2025) EllapsedTime: 76.1 seconds RetCode: 0 Status: OK PackageFile: cogeqc_1.10.0.tar.gz PackageFileSize: 3.205 MiB