Package: cogeqc Version: 1.10.0 Command: /home/biocbuild/bbs-3.20-bioc/R/bin/R CMD INSTALL cogeqc StartedAt: 2025-02-03 15:30:07 -0500 (Mon, 03 Feb 2025) EndedAt: 2025-02-03 15:30:21 -0500 (Mon, 03 Feb 2025) EllapsedTime: 13.2 seconds RetCode: 0 Status: OK