Package: cogeqc Version: 1.10.0 Command: chmod a+r cogeqc -R && F:\biocbuild\bbs-3.20-bioc\R\bin\R.exe CMD build --keep-empty-dirs --no-resave-data cogeqc StartedAt: 2025-02-10 18:10:28 -0500 (Mon, 10 Feb 2025) EndedAt: 2025-02-10 18:12:21 -0500 (Mon, 10 Feb 2025) EllapsedTime: 113.4 seconds RetCode: 0 Status: OK PackageFile: cogeqc_1.10.0.tar.gz PackageFileSize: 2.36 MiB