Package: cogeqc Version: 1.10.0 Command: /home/biocbuild/R/R/bin/R CMD check --install=check:cogeqc.install-out.txt --library=/home/biocbuild/R/R/site-library --no-vignettes --timings cogeqc_1.10.0.tar.gz StartedAt: 2025-02-11 05:00:44 -0000 (Tue, 11 Feb 2025) EndedAt: 2025-02-11 05:04:32 -0000 (Tue, 11 Feb 2025) EllapsedTime: 228.2 seconds RetCode: 0 Status: OK CheckDir: cogeqc.Rcheck Warnings: 0