Package: compEpiTools Version: 1.40.0 Command: /Library/Frameworks/R.framework/Resources/bin/R CMD INSTALL compEpiTools StartedAt: 2025-02-10 16:51:44 -0500 (Mon, 10 Feb 2025) EndedAt: 2025-02-10 16:52:55 -0500 (Mon, 10 Feb 2025) EllapsedTime: 70.5 seconds RetCode: 0 Status: OK