Package: compEpiTools Version: 1.40.0 Command: /home/biocbuild/bbs-3.20-bioc/R/bin/R CMD build --keep-empty-dirs --no-resave-data --md5 compEpiTools StartedAt: 2025-02-10 16:49:16 -0500 (Mon, 10 Feb 2025) EndedAt: 2025-02-10 16:50:38 -0500 (Mon, 10 Feb 2025) EllapsedTime: 81.1 seconds RetCode: 0 Status: OK PackageFile: compEpiTools_1.40.0.tar.gz PackageFileSize: 2.168 MiB