Package: compEpiTools Version: 1.40.0 Command: /home/biocbuild/bbs-3.20-bioc/R/bin/R CMD INSTALL compEpiTools StartedAt: 2025-02-03 15:45:58 -0500 (Mon, 03 Feb 2025) EndedAt: 2025-02-03 15:47:06 -0500 (Mon, 03 Feb 2025) EllapsedTime: 68.3 seconds RetCode: 0 Status: OK