Package: compEpiTools Version: 1.40.0 Command: /home/biocbuild/R/R/bin/R CMD build --keep-empty-dirs --no-resave-data compEpiTools StartedAt: 2025-02-03 22:46:18 -0000 (Mon, 03 Feb 2025) EndedAt: 2025-02-03 22:48:06 -0000 (Mon, 03 Feb 2025) EllapsedTime: 108.0 seconds RetCode: 0 Status: OK PackageFile: compEpiTools_1.40.0.tar.gz PackageFileSize: 2.161 MiB