Package: compEpiTools Version: 1.40.0 Command: /home/biocbuild/R/R/bin/R CMD check --install=check:compEpiTools.install-out.txt --library=/home/biocbuild/R/R/site-library --no-vignettes --timings compEpiTools_1.40.0.tar.gz StartedAt: 2025-02-04 05:52:09 -0000 (Tue, 04 Feb 2025) EndedAt: 2025-02-04 06:01:03 -0000 (Tue, 04 Feb 2025) EllapsedTime: 533.5 seconds RetCode: 0 Status: OK CheckDir: compEpiTools.Rcheck Warnings: 0