Package: compSPOT Version: 1.4.0 Command: /Library/Frameworks/R.framework/Resources/bin/R CMD check --install=check:compSPOT.install-out.txt --library=/Library/Frameworks/R.framework/Resources/library --no-vignettes --timings compSPOT_1.4.0.tar.gz StartedAt: 2025-02-04 15:46:35 -0500 (Tue, 04 Feb 2025) EndedAt: 2025-02-04 15:49:52 -0500 (Tue, 04 Feb 2025) EllapsedTime: 197.9 seconds RetCode: 0 Status: OK CheckDir: compSPOT.Rcheck Warnings: 0