Package: compSPOT Version: 1.4.0 Command: rm -rf compSPOT.buildbin-libdir && mkdir compSPOT.buildbin-libdir && F:\biocbuild\bbs-3.20-bioc\R\bin\R.exe CMD INSTALL --build --library=compSPOT.buildbin-libdir compSPOT_1.4.0.tar.gz StartedAt: 2025-02-11 08:13:02 -0500 (Tue, 11 Feb 2025) EndedAt: 2025-02-11 08:13:14 -0500 (Tue, 11 Feb 2025) EllapsedTime: 11.9 seconds RetCode: 0 Status: OK PackageFile: compSPOT_1.4.0.zip PackageFileSize: 469.5 KiB