Package: compSPOT Version: 1.4.0 Command: chmod a+r compSPOT -R && F:\biocbuild\bbs-3.20-bioc\R\bin\R.exe CMD build --keep-empty-dirs --no-resave-data compSPOT StartedAt: 2025-02-03 18:19:01 -0500 (Mon, 03 Feb 2025) EndedAt: 2025-02-03 18:19:35 -0500 (Mon, 03 Feb 2025) EllapsedTime: 34.2 seconds RetCode: 0 Status: OK PackageFile: compSPOT_1.4.0.tar.gz PackageFileSize: 436.6 KiB