Package: compcodeR Version: 1.42.0 Command: F:\biocbuild\bbs-3.20-bioc\R\bin\R.exe CMD INSTALL compcodeR StartedAt: 2025-02-10 15:44:27 -0500 (Mon, 10 Feb 2025) EndedAt: 2025-02-10 15:45:18 -0500 (Mon, 10 Feb 2025) EllapsedTime: 51.5 seconds RetCode: 0 Status: OK