Package: compcodeR Version: 1.42.0 Command: /home/biocbuild/R/R/bin/R CMD INSTALL compcodeR StartedAt: 2025-02-03 20:54:48 -0000 (Mon, 03 Feb 2025) EndedAt: 2025-02-03 20:55:04 -0000 (Mon, 03 Feb 2025) EllapsedTime: 15.8 seconds RetCode: 0 Status: OK