Package: concordexR Version: 1.6.0 Command: rm -rf concordexR.buildbin-libdir && mkdir concordexR.buildbin-libdir && /Users/biocbuild/BBS/utils/build-universal.sh concordexR_1.6.0.tar.gz /Library/Frameworks/R.framework/Resources/bin/R concordexR.buildbin-libdir StartedAt: 2025-02-04 12:42:55 -0500 (Tue, 04 Feb 2025) EndedAt: 2025-02-04 12:43:52 -0500 (Tue, 04 Feb 2025) EllapsedTime: 56.5 seconds RetCode: 0 Status: OK PackageFile: concordexR_1.6.0.tgz PackageFileSize: 1.473 MiB