Package: concordexR Version: 1.6.0 Command: rm -rf concordexR.buildbin-libdir && mkdir concordexR.buildbin-libdir && F:\biocbuild\bbs-3.20-bioc\R\bin\R.exe CMD INSTALL --build --library=concordexR.buildbin-libdir concordexR_1.6.0.tar.gz StartedAt: 2025-02-04 08:15:41 -0500 (Tue, 04 Feb 2025) EndedAt: 2025-02-04 08:16:19 -0500 (Tue, 04 Feb 2025) EllapsedTime: 37.7 seconds RetCode: 0 Status: OK PackageFile: concordexR_1.6.0.zip PackageFileSize: 1.095 MiB