Package: concordexR Version: 1.6.0 Command: /home/biocbuild/R/R/bin/R CMD INSTALL concordexR StartedAt: 2025-02-03 20:45:03 -0000 (Mon, 03 Feb 2025) EndedAt: 2025-02-03 20:45:32 -0000 (Mon, 03 Feb 2025) EllapsedTime: 28.7 seconds RetCode: 0 Status: OK