Package: condiments Version: 1.14.0 Command: rm -rf condiments.buildbin-libdir && mkdir condiments.buildbin-libdir && /Users/biocbuild/BBS/utils/build-universal.sh condiments_1.14.0.tar.gz /Library/Frameworks/R.framework/Resources/bin/R condiments.buildbin-libdir StartedAt: 2025-02-05 15:21:20 -0500 (Wed, 05 Feb 2025) EndedAt: 2025-02-05 15:22:02 -0500 (Wed, 05 Feb 2025) EllapsedTime: 41.9 seconds RetCode: 0 Status: OK PackageFile: condiments_1.14.0.tgz PackageFileSize: 2.343 MiB