Package: condiments Version: 1.14.0 Command: /Library/Frameworks/R.framework/Resources/bin/R CMD build --keep-empty-dirs --no-resave-data condiments StartedAt: 2025-02-03 21:18:44 -0500 (Mon, 03 Feb 2025) EndedAt: 2025-02-03 21:22:19 -0500 (Mon, 03 Feb 2025) EllapsedTime: 215.3 seconds RetCode: 0 Status: OK PackageFile: condiments_1.14.0.tar.gz PackageFileSize: 2.251 MiB