Package: condiments Version: 1.14.0 Command: /Library/Frameworks/R.framework/Resources/bin/R CMD build --keep-empty-dirs --no-resave-data condiments StartedAt: 2025-02-03 18:04:26 -0500 (Mon, 03 Feb 2025) EndedAt: 2025-02-03 18:11:15 -0500 (Mon, 03 Feb 2025) EllapsedTime: 408.4 seconds RetCode: 0 Status: OK PackageFile: condiments_1.14.0.tar.gz PackageFileSize: 2.244 MiB